BEGIN:VCALENDAR
VERSION:2.0
PRODID:-//NetAuktion//NONSGML NetAuktion//SV
METHOD:PUBLISH
BEGIN:VEVENT
UID:20260421T104601-963078053-netauktion.se
DTSTAMP:20260421T104601
DTSTART:20180831T030800
DTEND:20180831T031100
SUMMARY:Netauktion objekt 2758-119 Auktionspåminnelse
DESCRIPTION:Länk till objektet du var intresserad av: https://staging.netauktion.se/auktion/produkt/ca50st-hss-spiralborr-fran-berner-10mm-2
END:VEVENT
END:VCALENDAR
