BEGIN:VCALENDAR
VERSION:2.0
PRODID:-//NetAuktion//NONSGML NetAuktion//SV
METHOD:PUBLISH
BEGIN:VEVENT
UID:20260421T104537-1741053337-netauktion.se
DTSTAMP:20260421T104537
DTSTART:20180330T014000
DTEND:20180330T014300
SUMMARY:Netauktion objekt 3173-001 Auktionspåminnelse
DESCRIPTION:Länk till objektet du var intresserad av: https://staging.netauktion.se/auktion/produkt/skopglassbar-1
END:VEVENT
END:VCALENDAR
