BEGIN:VCALENDAR
VERSION:2.0
PRODID:-//NetAuktion//NONSGML NetAuktion//SV
METHOD:PUBLISH
BEGIN:VEVENT
UID:20260421T103032-316226190-netauktion.se
DTSTAMP:20260421T103032
DTSTART:20091027T003900
DTEND:20091027T004200
SUMMARY:Netauktion objekt 0365-042 Auktionspåminnelse
DESCRIPTION:Länk till objektet du var intresserad av: https://staging.netauktion.se/auktion/produkt/barnlampor-varde-800-kr-3
END:VEVENT
END:VCALENDAR
