BEGIN:VCALENDAR
VERSION:2.0
PRODID:-//NetAuktion//NONSGML NetAuktion//SV
METHOD:PUBLISH
BEGIN:VEVENT
UID:20260421T104603-1644493708-netauktion.se
DTSTAMP:20260421T104603
DTSTART:20170926T165700
DTEND:20170926T170000
SUMMARY:Netauktion objekt 3193-003 Auktionspåminnelse
DESCRIPTION:Länk till objektet du var intresserad av: https://staging.netauktion.se/auktion/produkt/slagbord-med-lador
END:VEVENT
END:VCALENDAR
