BEGIN:VCALENDAR
VERSION:2.0
PRODID:-//NetAuktion//NONSGML NetAuktion//SV
METHOD:PUBLISH
BEGIN:VEVENT
UID:20260421T104615-127860093-netauktion.se
DTSTAMP:20260421T104615
DTSTART:20170927T013400
DTEND:20170927T013700
SUMMARY:Netauktion objekt 3190-035 Auktionspåminnelse
DESCRIPTION:Länk till objektet du var intresserad av: https://staging.netauktion.se/auktion/produkt/klader-ca-40par-strumpor
END:VEVENT
END:VCALENDAR
