BEGIN:VCALENDAR
VERSION:2.0
PRODID:-//NetAuktion//NONSGML NetAuktion//SV
METHOD:PUBLISH
BEGIN:VEVENT
UID:20260421T103033-1355344562-netauktion.se
DTSTAMP:20260421T103033
DTSTART:20170927T013600
DTEND:20170927T013900
SUMMARY:Netauktion objekt 3190-042 Auktionspåminnelse
DESCRIPTION:Länk till objektet du var intresserad av: https://staging.netauktion.se/auktion/produkt/sjalar-halsdukar-totalt-ca-50st
END:VEVENT
END:VCALENDAR
