BEGIN:VCALENDAR
VERSION:2.0
PRODID:-//NetAuktion//NONSGML NetAuktion//SV
METHOD:PUBLISH
BEGIN:VEVENT
UID:20260421T104440-2001743356-netauktion.se
DTSTAMP:20260421T104440
DTSTART:20170927T013600
DTEND:20170927T013900
SUMMARY:Netauktion objekt 3190-043 Auktionspåminnelse
DESCRIPTION:Länk till objektet du var intresserad av: https://staging.netauktion.se/auktion/produkt/strumpbyxor-underklader-ca-15st-totalt
END:VEVENT
END:VCALENDAR
