BEGIN:VCALENDAR
VERSION:2.0
PRODID:-//NetAuktion//NONSGML NetAuktion//SV
METHOD:PUBLISH
BEGIN:VEVENT
UID:20260421T104450-2005810866-netauktion.se
DTSTAMP:20260421T104450
DTSTART:20170927T021400
DTEND:20170927T021700
SUMMARY:Netauktion objekt 3190-068 Auktionspåminnelse
DESCRIPTION:Länk till objektet du var intresserad av: https://staging.netauktion.se/auktion/produkt/ett-parti-smycken-lalo-treasure
END:VEVENT
END:VCALENDAR
