BEGIN:VCALENDAR
VERSION:2.0
PRODID:-//NetAuktion//NONSGML NetAuktion//SV
METHOD:PUBLISH
BEGIN:VEVENT
UID:20260421T104536-1851786959-netauktion.se
DTSTAMP:20260421T104536
DTSTART:20170926T022100
DTEND:20170926T022400
SUMMARY:Netauktion objekt 3189-002 Auktionspåminnelse
DESCRIPTION:Länk till objektet du var intresserad av: https://staging.netauktion.se/auktion/produkt/datorpaket-med-lenovo-ideacentre
END:VEVENT
END:VCALENDAR
