BEGIN:VCALENDAR
VERSION:2.0
PRODID:-//NetAuktion//NONSGML NetAuktion//SV
METHOD:PUBLISH
BEGIN:VEVENT
UID:20260421T104317-346317648-netauktion.se
DTSTAMP:20260421T104317
DTSTART:20091027T010900
DTEND:20091027T011200
SUMMARY:Netauktion objekt 0365-081 Auktionspåminnelse
DESCRIPTION:Länk till objektet du var intresserad av: https://staging.netauktion.se/auktion/produkt/globen-bordslampor-varde-1100-kr
END:VEVENT
END:VCALENDAR
