BEGIN:VCALENDAR
VERSION:2.0
PRODID:-//NetAuktion//NONSGML NetAuktion//SV
METHOD:PUBLISH
BEGIN:VEVENT
UID:20260421T104529-479530666-netauktion.se
DTSTAMP:20260421T104529
DTSTART:20171031T002700
DTEND:20171031T003000
SUMMARY:Netauktion objekt 3248-007 Auktionspåminnelse
DESCRIPTION:Länk till objektet du var intresserad av: https://staging.netauktion.se/auktion/produkt/tjaltiningskol-lock
END:VEVENT
END:VCALENDAR
