BEGIN:VCALENDAR
VERSION:2.0
PRODID:-//NetAuktion//NONSGML NetAuktion//SV
METHOD:PUBLISH
BEGIN:VEVENT
UID:20260421T104534-450409722-netauktion.se
DTSTAMP:20260421T104534
DTSTART:20171031T003300
DTEND:20171031T003600
SUMMARY:Netauktion objekt 3248-030 Auktionspåminnelse
DESCRIPTION:Länk till objektet du var intresserad av: https://staging.netauktion.se/auktion/produkt/kabeltanger-amp
END:VEVENT
END:VCALENDAR
