BEGIN:VCALENDAR
VERSION:2.0
PRODID:-//NetAuktion//NONSGML NetAuktion//SV
METHOD:PUBLISH
BEGIN:VEVENT
UID:20260421T102934-894382398-netauktion.se
DTSTAMP:20260421T102934
DTSTART:20171031T010000
DTEND:20171031T010300
SUMMARY:Netauktion objekt 3248-040 Auktionspåminnelse
DESCRIPTION:Länk till objektet du var intresserad av: https://staging.netauktion.se/auktion/produkt/kabel-rorsokare-radiodetection-rd7000-2
END:VEVENT
END:VCALENDAR
