BEGIN:VCALENDAR
VERSION:2.0
PRODID:-//NetAuktion//NONSGML NetAuktion//SV
METHOD:PUBLISH
BEGIN:VEVENT
UID:20260421T104602-1512929799-netauktion.se
DTSTAMP:20260421T104602
DTSTART:20171031T004800
DTEND:20171031T005100
SUMMARY:Netauktion objekt 3248-049 Auktionspåminnelse
DESCRIPTION:Länk till objektet du var intresserad av: https://staging.netauktion.se/auktion/produkt/bankdiskmaskin-kaffebryggare-mikrovagsugnar
END:VEVENT
END:VCALENDAR
