BEGIN:VCALENDAR
VERSION:2.0
PRODID:-//NetAuktion//NONSGML NetAuktion//SV
METHOD:PUBLISH
BEGIN:VEVENT
UID:20260421T104615-407089089-netauktion.se
DTSTAMP:20260421T104615
DTSTART:20180430T030900
DTEND:20180430T031200
SUMMARY:Netauktion objekt 3243-035 Auktionspåminnelse
DESCRIPTION:Länk till objektet du var intresserad av: https://staging.netauktion.se/auktion/produkt/skor-fran-twist-tango-strl-40-1699
END:VEVENT
END:VCALENDAR
