BEGIN:VCALENDAR
VERSION:2.0
PRODID:-//NetAuktion//NONSGML NetAuktion//SV
METHOD:PUBLISH
BEGIN:VEVENT
UID:20260421T103127-740905578-netauktion.se
DTSTAMP:20260421T103127
DTSTART:20180430T031100
DTEND:20180430T031400
SUMMARY:Netauktion objekt 3243-054 Auktionspåminnelse
DESCRIPTION:Länk till objektet du var intresserad av: https://staging.netauktion.se/auktion/produkt/skor-fran-ash-strl-35-ca-1500
END:VEVENT
END:VCALENDAR
