BEGIN:VCALENDAR
VERSION:2.0
PRODID:-//NetAuktion//NONSGML NetAuktion//SV
METHOD:PUBLISH
BEGIN:VEVENT
UID:20260421T104433-658953363-netauktion.se
DTSTAMP:20260421T104433
DTSTART:20180430T031900
DTEND:20180430T032200
SUMMARY:Netauktion objekt 3243-163 Auktionspåminnelse
DESCRIPTION:Länk till objektet du var intresserad av: https://staging.netauktion.se/auktion/produkt/sneakers-fran-tlc-strl-36-2399
END:VEVENT
END:VCALENDAR
