BEGIN:VCALENDAR
VERSION:2.0
PRODID:-//NetAuktion//NONSGML NetAuktion//SV
METHOD:PUBLISH
BEGIN:VEVENT
UID:20260421T104356-895619934-netauktion.se
DTSTAMP:20260421T104356
DTSTART:20180430T031600
DTEND:20180430T031900
SUMMARY:Netauktion objekt 3243-170 Auktionspåminnelse
DESCRIPTION:Länk till objektet du var intresserad av: https://staging.netauktion.se/auktion/produkt/skor-fran-dondup-strl-39-2399
END:VEVENT
END:VCALENDAR
