BEGIN:VCALENDAR
VERSION:2.0
PRODID:-//NetAuktion//NONSGML NetAuktion//SV
METHOD:PUBLISH
BEGIN:VEVENT
UID:20260421T102744-168530999-netauktion.se
DTSTAMP:20260421T102744
DTSTART:20180430T031000
DTEND:20180430T031300
SUMMARY:Netauktion objekt 3243-182 Auktionspåminnelse
DESCRIPTION:Länk till objektet du var intresserad av: https://staging.netauktion.se/auktion/produkt/sandaler-fran-ndc-strl-39-1999-2
END:VEVENT
END:VCALENDAR
