BEGIN:VCALENDAR
VERSION:2.0
PRODID:-//NetAuktion//NONSGML NetAuktion//SV
METHOD:PUBLISH
BEGIN:VEVENT
UID:20260421T102839-739295096-netauktion.se
DTSTAMP:20260421T102839
DTSTART:20180430T020800
DTEND:20180430T021100
SUMMARY:Netauktion objekt 3243-153 Auktionspåminnelse
DESCRIPTION:Länk till objektet du var intresserad av: https://staging.netauktion.se/auktion/produkt/top-fran-covert-strl-m-ca-1699
END:VEVENT
END:VCALENDAR
