BEGIN:VCALENDAR
VERSION:2.0
PRODID:-//NetAuktion//NONSGML NetAuktion//SV
METHOD:PUBLISH
BEGIN:VEVENT
UID:20260421T104319-2088232517-netauktion.se
DTSTAMP:20260421T104319
DTSTART:20180430T030100
DTEND:20180430T030400
SUMMARY:Netauktion objekt 3243-194 Auktionspåminnelse
DESCRIPTION:Länk till objektet du var intresserad av: https://staging.netauktion.se/auktion/produkt/sandaler-fran-ndc-strl-40-1999-2
END:VEVENT
END:VCALENDAR
