BEGIN:VCALENDAR
VERSION:2.0
PRODID:-//NetAuktion//NONSGML NetAuktion//SV
METHOD:PUBLISH
BEGIN:VEVENT
UID:20260421T104305-720842645-netauktion.se
DTSTAMP:20260421T104305
DTSTART:20180430T025800
DTEND:20180430T030100
SUMMARY:Netauktion objekt 3243-201 Auktionspåminnelse
DESCRIPTION:Länk till objektet du var intresserad av: https://staging.netauktion.se/auktion/produkt/sandaler-fran-ndc-strl-41-1999-6
END:VEVENT
END:VCALENDAR
