BEGIN:VCALENDAR
VERSION:2.0
PRODID:-//NetAuktion//NONSGML NetAuktion//SV
METHOD:PUBLISH
BEGIN:VEVENT
UID:20260421T104316-2040853790-netauktion.se
DTSTAMP:20260421T104316
DTSTART:20171222T025200
DTEND:20171222T025500
SUMMARY:Netauktion objekt 3270-001 Auktionspåminnelse
DESCRIPTION:Länk till objektet du var intresserad av: https://staging.netauktion.se/auktion/produkt/sagklinga-bosch-600x3040x30
END:VEVENT
END:VCALENDAR
