BEGIN:VCALENDAR
VERSION:2.0
PRODID:-//NetAuktion//NONSGML NetAuktion//SV
METHOD:PUBLISH
BEGIN:VEVENT
UID:20260421T103031-356341829-netauktion.se
DTSTAMP:20260421T103031
DTSTART:20180430T033900
DTEND:20180430T034200
SUMMARY:Netauktion objekt 3281-003 Auktionspåminnelse
DESCRIPTION:Länk till objektet du var intresserad av: https://staging.netauktion.se/auktion/produkt/skal-iphone7-4st-horlurar-happy-plugs
END:VEVENT
END:VCALENDAR
