BEGIN:VCALENDAR
VERSION:2.0
PRODID:-//NetAuktion//NONSGML NetAuktion//SV
METHOD:PUBLISH
BEGIN:VEVENT
UID:20260421T104607-1477204327-netauktion.se
DTSTAMP:20260421T104607
DTSTART:20180228T020500
DTEND:20180228T020800
SUMMARY:Netauktion objekt 3149-020 Auktionspåminnelse
DESCRIPTION:Länk till objektet du var intresserad av: https://staging.netauktion.se/auktion/produkt/grastrimmer-hitachi-cg25sc-230v-20
END:VEVENT
END:VCALENDAR
