BEGIN:VCALENDAR
VERSION:2.0
PRODID:-//NetAuktion//NONSGML NetAuktion//SV
METHOD:PUBLISH
BEGIN:VEVENT
UID:20260421T102706-1227947405-netauktion.se
DTSTAMP:20260421T102706
DTSTART:20090930T030300
DTEND:20090930T030600
SUMMARY:Netauktion objekt 0361-125 Auktionspåminnelse
DESCRIPTION:Länk till objektet du var intresserad av: https://staging.netauktion.se/auktion/produkt/morsetolkar-mk-1-2-3-4-och-5
END:VEVENT
END:VCALENDAR
