BEGIN:VCALENDAR
VERSION:2.0
PRODID:-//NetAuktion//NONSGML NetAuktion//SV
METHOD:PUBLISH
BEGIN:VEVENT
UID:20260421T104358-648094253-netauktion.se
DTSTAMP:20260421T104358
DTSTART:20090930T031300
DTEND:20090930T031600
SUMMARY:Netauktion objekt 0361-134 Auktionspåminnelse
DESCRIPTION:Länk till objektet du var intresserad av: https://staging.netauktion.se/auktion/produkt/3-skap-lite-verktyg
END:VEVENT
END:VCALENDAR
