BEGIN:VCALENDAR
VERSION:2.0
PRODID:-//NetAuktion//NONSGML NetAuktion//SV
METHOD:PUBLISH
BEGIN:VEVENT
UID:20260421T104602-371314785-netauktion.se
DTSTAMP:20260421T104602
DTSTART:20171222T025500
DTEND:20171222T025800
SUMMARY:Netauktion objekt 3270-046 Auktionspåminnelse
DESCRIPTION:Länk till objektet du var intresserad av: https://staging.netauktion.se/auktion/produkt/maskinverktygstillbehor-bosch
END:VEVENT
END:VCALENDAR
