BEGIN:VCALENDAR
VERSION:2.0
PRODID:-//NetAuktion//NONSGML NetAuktion//SV
METHOD:PUBLISH
BEGIN:VEVENT
UID:20260421T104602-1127283704-netauktion.se
DTSTAMP:20260421T104602
DTSTART:20171222T025000
DTEND:20171222T025300
SUMMARY:Netauktion objekt 3270-047 Auktionspåminnelse
DESCRIPTION:Länk till objektet du var intresserad av: https://staging.netauktion.se/auktion/produkt/maskinverktygstillbehor-bosch-2
END:VEVENT
END:VCALENDAR
