BEGIN:VCALENDAR
VERSION:2.0
PRODID:-//NetAuktion//NONSGML NetAuktion//SV
METHOD:PUBLISH
BEGIN:VEVENT
UID:20260421T104633-1303828984-netauktion.se
DTSTAMP:20260421T104633
DTSTART:20171127T013400
DTEND:20171127T013700
SUMMARY:Netauktion objekt 3289-030 Auktionspåminnelse
DESCRIPTION:Länk till objektet du var intresserad av: https://staging.netauktion.se/auktion/produkt/taklampa-tuolon-5l
END:VEVENT
END:VCALENDAR
