BEGIN:VCALENDAR
VERSION:2.0
PRODID:-//NetAuktion//NONSGML NetAuktion//SV
METHOD:PUBLISH
BEGIN:VEVENT
UID:20260421T104533-1328817904-netauktion.se
DTSTAMP:20260421T104533
DTSTART:20171127T014200
DTEND:20171127T014500
SUMMARY:Netauktion objekt 3289-038 Auktionspåminnelse
DESCRIPTION:Länk till objektet du var intresserad av: https://staging.netauktion.se/auktion/produkt/sveg-spegel-och-lykta
END:VEVENT
END:VCALENDAR
