BEGIN:VCALENDAR
VERSION:2.0
PRODID:-//NetAuktion//NONSGML NetAuktion//SV
METHOD:PUBLISH
BEGIN:VEVENT
UID:20260421T104635-1225651786-netauktion.se
DTSTAMP:20260421T104635
DTSTART:20171127T015100
DTEND:20171127T015400
SUMMARY:Netauktion objekt 3289-047 Auktionspåminnelse
DESCRIPTION:Länk till objektet du var intresserad av: https://staging.netauktion.se/auktion/produkt/uddebo-tak-och-vaglampor
END:VEVENT
END:VCALENDAR
