BEGIN:VCALENDAR
VERSION:2.0
PRODID:-//NetAuktion//NONSGML NetAuktion//SV
METHOD:PUBLISH
BEGIN:VEVENT
UID:20260421T104532-788270535-netauktion.se
DTSTAMP:20260421T104532
DTSTART:20171127T015300
DTEND:20171127T015600
SUMMARY:Netauktion objekt 3289-049 Auktionspåminnelse
DESCRIPTION:Länk till objektet du var intresserad av: https://staging.netauktion.se/auktion/produkt/hemdekoration-i-svart-och-citronfarg
END:VEVENT
END:VCALENDAR
