BEGIN:VCALENDAR
VERSION:2.0
PRODID:-//NetAuktion//NONSGML NetAuktion//SV
METHOD:PUBLISH
BEGIN:VEVENT
UID:20260421T104352-45790928-netauktion.se
DTSTAMP:20260421T104352
DTSTART:20171222T034000
DTEND:20171222T034300
SUMMARY:Netauktion objekt 3291-001 Auktionspåminnelse
DESCRIPTION:Länk till objektet du var intresserad av: https://staging.netauktion.se/auktion/produkt/hacksax-hitachi-ch14dsl-naken
END:VEVENT
END:VCALENDAR
