BEGIN:VCALENDAR
VERSION:2.0
PRODID:-//NetAuktion//NONSGML NetAuktion//SV
METHOD:PUBLISH
BEGIN:VEVENT
UID:20260421T102853-2120764635-netauktion.se
DTSTAMP:20260421T102853
DTSTART:20171128T011300
DTEND:20171128T011600
SUMMARY:Netauktion objekt 3297-004 Auktionspåminnelse
DESCRIPTION:Länk till objektet du var intresserad av: https://staging.netauktion.se/auktion/produkt/trottoarpratare-mm-2
END:VEVENT
END:VCALENDAR
