BEGIN:VCALENDAR
VERSION:2.0
PRODID:-//NetAuktion//NONSGML NetAuktion//SV
METHOD:PUBLISH
BEGIN:VEVENT
UID:20260421T102932-303156109-netauktion.se
DTSTAMP:20260421T102932
DTSTART:20171222T023300
DTEND:20171222T023600
SUMMARY:Netauktion objekt 3269-001 Auktionspåminnelse
DESCRIPTION:Länk till objektet du var intresserad av: https://staging.netauktion.se/auktion/produkt/roterande-lutningslaser-och-stativ-niko
END:VEVENT
END:VCALENDAR
