BEGIN:VCALENDAR
VERSION:2.0
PRODID:-//NetAuktion//NONSGML NetAuktion//SV
METHOD:PUBLISH
BEGIN:VEVENT
UID:20260421T104604-849146508-netauktion.se
DTSTAMP:20260421T104604
DTSTART:20171222T034100
DTEND:20171222T034400
SUMMARY:Netauktion objekt 3291-003 Auktionspåminnelse
DESCRIPTION:Länk till objektet du var intresserad av: https://staging.netauktion.se/auktion/produkt/hacksax-hitachi-ch14dsl-naken-3-2
END:VEVENT
END:VCALENDAR
