BEGIN:VCALENDAR
VERSION:2.0
PRODID:-//NetAuktion//NONSGML NetAuktion//SV
METHOD:PUBLISH
BEGIN:VEVENT
UID:20260421T104529-1272866533-netauktion.se
DTSTAMP:20260421T104529
DTSTART:20171129T010100
DTEND:20171129T010400
SUMMARY:Netauktion objekt 3300-002 Auktionspåminnelse
DESCRIPTION:Länk till objektet du var intresserad av: https://staging.netauktion.se/auktion/produkt/kassaskap-hadak-20
END:VEVENT
END:VCALENDAR
