BEGIN:VCALENDAR
VERSION:2.0
PRODID:-//NetAuktion//NONSGML NetAuktion//SV
METHOD:PUBLISH
BEGIN:VEVENT
UID:20260421T103007-488478532-netauktion.se
DTSTAMP:20260421T103007
DTSTART:20171222T041500
DTEND:20171222T041800
SUMMARY:Netauktion objekt 3291-057 Auktionspåminnelse
DESCRIPTION:Länk till objektet du var intresserad av: https://staging.netauktion.se/auktion/produkt/hitachi-luftblas-rb36dl-naken
END:VEVENT
END:VCALENDAR
