BEGIN:VCALENDAR
VERSION:2.0
PRODID:-//NetAuktion//NONSGML NetAuktion//SV
METHOD:PUBLISH
BEGIN:VEVENT
UID:20260421T103007-1648047452-netauktion.se
DTSTAMP:20260421T103007
DTSTART:20180430T022400
DTEND:20180430T022700
SUMMARY:Netauktion objekt 3243-413 Auktionspåminnelse
DESCRIPTION:Länk till objektet du var intresserad av: https://staging.netauktion.se/auktion/produkt/t-shirt-fran-majestic-strl-1-699
END:VEVENT
END:VCALENDAR
