BEGIN:VCALENDAR
VERSION:2.0
PRODID:-//NetAuktion//NONSGML NetAuktion//SV
METHOD:PUBLISH
BEGIN:VEVENT
UID:20260421T104534-898289989-netauktion.se
DTSTAMP:20260421T104534
DTSTART:20180530T021500
DTEND:20180530T021800
SUMMARY:Netauktion objekt 3303-008 Auktionspåminnelse
DESCRIPTION:Länk till objektet du var intresserad av: https://staging.netauktion.se/auktion/produkt/13st-olglas-50cl-carlsberg-2
END:VEVENT
END:VCALENDAR
