BEGIN:VCALENDAR
VERSION:2.0
PRODID:-//NetAuktion//NONSGML NetAuktion//SV
METHOD:PUBLISH
BEGIN:VEVENT
UID:20260421T104430-709809175-netauktion.se
DTSTAMP:20260421T104430
DTSTART:20180530T021600
DTEND:20180530T021900
SUMMARY:Netauktion objekt 3303-009 Auktionspåminnelse
DESCRIPTION:Länk till objektet du var intresserad av: https://staging.netauktion.se/auktion/produkt/13st-olglas-50cl-carlsberg-3
END:VEVENT
END:VCALENDAR
