BEGIN:VCALENDAR
VERSION:2.0
PRODID:-//NetAuktion//NONSGML NetAuktion//SV
METHOD:PUBLISH
BEGIN:VEVENT
UID:20260421T102953-407499340-netauktion.se
DTSTAMP:20260421T102953
DTSTART:20180530T021900
DTEND:20180530T022200
SUMMARY:Netauktion objekt 3303-015 Auktionspåminnelse
DESCRIPTION:Länk till objektet du var intresserad av: https://staging.netauktion.se/auktion/produkt/karaffer-och-ishinkar
END:VEVENT
END:VCALENDAR
