BEGIN:VCALENDAR
VERSION:2.0
PRODID:-//NetAuktion//NONSGML NetAuktion//SV
METHOD:PUBLISH
BEGIN:VEVENT
UID:20260421T104532-16810795-netauktion.se
DTSTAMP:20260421T104532
DTSTART:20171222T022100
DTEND:20171222T022400
SUMMARY:Netauktion objekt 3302-026 Auktionspåminnelse
DESCRIPTION:Länk till objektet du var intresserad av: https://staging.netauktion.se/auktion/produkt/verktygspaket-hitachi-ds18djl-med-bitssats
END:VEVENT
END:VCALENDAR
