BEGIN:VCALENDAR
VERSION:2.0
PRODID:-//NetAuktion//NONSGML NetAuktion//SV
METHOD:PUBLISH
BEGIN:VEVENT
UID:20260421T103005-685180936-netauktion.se
DTSTAMP:20260421T103005
DTSTART:20171222T040300
DTEND:20171222T040600
SUMMARY:Netauktion objekt 3302-042 Auktionspåminnelse
DESCRIPTION:Länk till objektet du var intresserad av: https://staging.netauktion.se/auktion/produkt/bensindriven-luftblas-hitachi-rb24eap-3
END:VEVENT
END:VCALENDAR
