BEGIN:VCALENDAR
VERSION:2.0
PRODID:-//NetAuktion//NONSGML NetAuktion//SV
METHOD:PUBLISH
BEGIN:VEVENT
UID:20260421T104603-601248384-netauktion.se
DTSTAMP:20260421T104603
DTSTART:20171222T023000
DTEND:20171222T023300
SUMMARY:Netauktion objekt 3302-044 Auktionspåminnelse
DESCRIPTION:Länk till objektet du var intresserad av: https://staging.netauktion.se/auktion/produkt/aluminiumstativ-for-hitachi-mj500-bygglaser
END:VEVENT
END:VCALENDAR
