BEGIN:VCALENDAR
VERSION:2.0
PRODID:-//NetAuktion//NONSGML NetAuktion//SV
METHOD:PUBLISH
BEGIN:VEVENT
UID:20260421T103138-822638899-netauktion.se
DTSTAMP:20260421T103138
DTSTART:20171222T040300
DTEND:20171222T040600
SUMMARY:Netauktion objekt 3302-049 Auktionspåminnelse
DESCRIPTION:Länk till objektet du var intresserad av: https://staging.netauktion.se/auktion/produkt/bensindr-grastrimmer-hitachi-cg-22eap2lb
END:VEVENT
END:VCALENDAR
