BEGIN:VCALENDAR
VERSION:2.0
PRODID:-//NetAuktion//NONSGML NetAuktion//SV
METHOD:PUBLISH
BEGIN:VEVENT
UID:20260421T103237-1582864974-netauktion.se
DTSTAMP:20260421T103237
DTSTART:20171222T155700
DTEND:20171222T160000
SUMMARY:Netauktion objekt 2889-049 Auktionspåminnelse
DESCRIPTION:Länk till objektet du var intresserad av: https://staging.netauktion.se/auktion/produkt/2st-diskbacksvagnar
END:VEVENT
END:VCALENDAR
