BEGIN:VCALENDAR
VERSION:2.0
PRODID:-//NetAuktion//NONSGML NetAuktion//SV
METHOD:PUBLISH
BEGIN:VEVENT
UID:20260421T103257-677018448-netauktion.se
DTSTAMP:20260421T103257
DTSTART:20180119T024900
DTEND:20180119T025200
SUMMARY:Netauktion objekt 3027-249 Auktionspåminnelse
DESCRIPTION:Länk till objektet du var intresserad av: https://staging.netauktion.se/auktion/produkt/herrklader-laperla-strl-l-xl
END:VEVENT
END:VCALENDAR
