BEGIN:VCALENDAR
VERSION:2.0
PRODID:-//NetAuktion//NONSGML NetAuktion//SV
METHOD:PUBLISH
BEGIN:VEVENT
UID:20260421T104622-1393320742-netauktion.se
DTSTAMP:20260421T104622
DTSTART:20180119T022700
DTEND:20180119T023000
SUMMARY:Netauktion objekt 3027-258 Auktionspåminnelse
DESCRIPTION:Länk till objektet du var intresserad av: https://staging.netauktion.se/auktion/produkt/underklader-laperla-strl-s
END:VEVENT
END:VCALENDAR
